<?xml version="1.0" encoding="ISO-8859-1"?>
<?xml-stylesheet type="text/xsl" href="dnr.xsl"?>
<metadata>
<idinfo>
<citation>
<citeinfo>
<origin>U.S. Geological Survey</origin>
<pubdate>20070630</pubdate>
<title>DOQQ 2008</title>
<geoform>SDE raster digital data</geoform>
<pubinfo>
<pubplace>Chesterfield, MO</pubplace>
<publish>Surdex Corporation</publish>
</pubinfo>
<onlink>None.</onlink>
</citeinfo>
</citation>
<descript>
<abstract>A Digital Orthophoto Quarter-Quadrangle (DOQQ) is a raster image in which displacement in the image caused by sensor orientation and terrain relief has been removed.  An orthophoto combines the image characteristics of a photograph with the geometric qualities of a map.  The geographic extent of the DOQQ is equivalent to a quarter of a 7.5-minute map (3.75 minutes of latitude and longitude) with overedge.  The overedge ranges from a minimum of 50 meters to a maximum of 300 meters beyond the extremes of the NAD83 datum 3.75-minute latitude and longitude boundaries.  DOQQs are produced with a 0.6 meter ground sample distance (GSD) and are cast on the Universal Transverse Mercator (UTM) projection on the North American Datum of 1983 (NAD83).  The DOQQs will meet an accuracy of 3-meter diagonal Root Mean Square Error (2.12m RMSE X or Y).</abstract>
<purpose>This data depicts geographic features on the surface of the earth.  GeoTIFF DOQQs serve a variety of purposes, from interim base maps to field references for earth science investigations and analysis.  The GeoTIFF DOQQ is useful as a layer in a geographic information system (GIS) and as a tool for performing digital map revision and reference.  DOQQs form the medium-resolution image base for The National Map.</purpose>
</descript>
<timeperd>
<timeinfo>
<sngdate>
<caldate>20070222</caldate>
</sngdate>
</timeinfo>
<current>ground condition</current>
</timeperd>
<status>
<progress>Complete</progress>
<update>Unknown</update>
</status>
<spdom>
<bounding>
<westbc>
-93.132374</westbc>
<eastbc>
-88.845418</eastbc>
<northbc>
40.634991</northbc>
<southbc>
35.899742</southbc>
</bounding>
</spdom>
<keywords>
<theme>
<themekt>None</themekt>
<themekey>GeoTIFF DOQQ</themekey>
<themekey>digital orthophoto</themekey>
<themekey>quarter-quad digital orthophoto</themekey>
<themekey>rectified photograph</themekey>
<themekey>rectified image</themekey>
<themekey>quarter-quadrangle orthophoto</themekey>
<themekey>0.60 meter orthophoto</themekey>
<themekey>3.75- x 3.75-minute orthophoto</themekey>
<themekey>Color GeoTIFF DOQQ</themekey>
<themekey>Color Orthophoto</themekey>
<themekey>Leaf-off imagery</themekey>
<themekey>DOQ</themekey>
</theme>
<place>
<placekt>U.S. Department of Commerce, 1995, Countries, dependencies, areas of special sovereignty, and their principal administrative divisions, Federal Information Processing Standard (FIPS) 10-4): Washington, D.C., National Institute of Standards and Technology.</placekt>
<placekey>US</placekey>
</place>
<place>
<placekt>U.S. Department of Commerce, 1987, Codes for the Identification of the States, the District of Columbia and the outlying areas of the United States, and associated areas (Federal Information Processing Standard (FIPS) 5-2): Washington, D.C., National Institute of Standards and Technology.</placekt>
<placekey>MO</placekey>
</place>
</keywords>
<accconst>none</accconst>
<useconst>None.  However, users should be aware that temporal changes may have occurred since this data set was collected and that some parts of this data may no longer represent actual surface conditions.  Users should not use this data for critical applications without a full awareness of it's limitations.  Acknowledgment of the U.S. Geological Survey would be appreciated for products derived from these data.</useconst>
<datacred>The State of Missouri and the U.S. Geological Survey provided funding and services for the collection and production of these data.</datacred>
<native>Microsoft Windows XP Version 5.1 (Build 2600) Service Pack 2; ESRI ArcCatalog 9.3.1.1850</native>
</idinfo>
<dataqual>
<attracc>
<attraccr>Upon completion of the post processing of the digital camera data, digital dodging is performed to improve image quality.  Image brightness values may deviate from the original images.  

       Radiometry is verified by visual inspection of the digital orthophoto.  Where possible, radiometry is verified by visual inspection of the digital orthophoto with the original unrectified image.  Slight systematic radiometric differences may exist between adjacent orthoimage files; these are due primarily to differences in source image capture dates and sun angles along flight lines. These differences can be observed in an image's general lightness or darkness when it is compared to adjacent orthoimage files. Tonal balancing may be performed over a group of images during the mosaicking process which may serve to lighten or darken adjacent images for better color tone matching.</attraccr>
</attracc>
<logic>All GeoTIFF tagged data and image file sizes are derived from a digital orthophoto database created for this project.  This validation procedure ensures correct physical format and field values for tagged elements.</logic>
<complete>Orthorectified images are visually inspected and automatically verified for completeness to ensure that no gaps or image misplacements exist within the 3.75-minute image area or the overedge coverage.  DOQQs are produced from leaf-off, cloud-free imagery.  DOQQs are produced with overedge coverage, ranging from a minimum of 50 meters to a maximum of 300 meters beyond the extremes of the NAD83 datum 3.75-minute latitude and longitude boundaries.  The resulting DOQQ is a rectangle whose size may vary in relation to adjoining DOQQs.</complete>
<posacc>
<horizpa>
<horizpar>The DOQQ horizontal positional accuracy and the assurance of that accuracy depend, in part, on the accuracy of the data inputs to the rectification process (elevation data, aerotriangulation control and methods, camera calibration, scanner calibration, and source imagery parameters). 

         Surdex Corporation collected approximately 50 field control points and used them as validation check points in both the aerotriangulation and orthorectification processes.</horizpar>
<qhorizpa>
<horizpav>3.0</horizpav>
<horizpae>FGDC-STD-007.3-1998, Part 3: National Standard for Spatial Data Accuracy</horizpae>
</qhorizpa>
</horizpa>
</posacc>
<lineage>
<srcinfo>
<srccite>
<citeinfo>
<origin>U.S. Geological Survey</origin>
<pubdate>1998</pubdate>
<title>NAPP 10807  19</title>
<geoform>remote-sensing image</geoform>
</citeinfo>
</srccite>
<srcscale>50800</srcscale>
<typesrc>Digital</typesrc>
<srctime>
<timeinfo>
<sngdate>
<caldate>20070222</caldate>
</sngdate>
</timeinfo>
<srccurr>ground condition</srccurr>
</srctime>
<srccitea>PHOTO</srccitea>
<srccontr>Digital color aerial photography flown at 20,000 feet above average ground elevation. Provides the imagery for the digital orthoimage.</srccontr>
</srcinfo>
<srcinfo>
<srccite>
<citeinfo>
<origin>Surdex Corporation</origin>
<pubdate>Unknown</pubdate>
<title>2007 Missouri Statewide Digital Orthophoto Program</title>
<geoform>raster digital data</geoform>
</citeinfo>
</srccite>
<typesrc>disc</typesrc>
<srctime>
<timeinfo>
<sngdate>
<caldate>2007</caldate>
</sngdate>
</timeinfo>
<srccurr>ground condition</srccurr>
</srctime>
<srccitea>Orthophoto</srccitea>
<srccontr>Elevation data at a 10 meter posting used to provide ground elevations for orthorectification process.</srccontr>
</srcinfo>
<srcinfo>
<srccite>
<citeinfo>
<origin>State of Missouri</origin>
<pubdate>Unpublished material</pubdate>
<title>Digital Elevation Model</title>
</citeinfo>
</srccite>
<typesrc>disc</typesrc>
<srctime>
<timeinfo>
<sngdate>
<caldate>Unknown</caldate>
</sngdate>
</timeinfo>
<srccurr>ground condition</srccurr>
</srctime>
<srccitea>DEM</srccitea>
<srccontr>Airborne GPS positions were computed by Surdex and used as control in the aerotriangulation process.  Survey check points acquired in the field were used as check points against the Airborne GPS to ensure stated accuracy specifications.</srccontr>
</srcinfo>
<srcinfo>
<srccite>
<citeinfo>
<origin>Surdex Corporation</origin>
<pubdate>Unpublished material</pubdate>
<title>Aerotriangulation Ground Control</title>
</citeinfo>
</srccite>
<typesrc>disc</typesrc>
<srctime>
<timeinfo>
<sngdate>
<caldate>200705</caldate>
</sngdate>
</timeinfo>
<srccurr>ground condition</srccurr>
</srctime>
<srccitea>ATCONTROL</srccitea>
<srccontr>Aerotriangulation provides the exterior orientation parameters ( X, Y, Z, omega, phi, kappa) for input to the orthorectification process.</srccontr>
</srcinfo>
<procstep>
<procdesc>The rectification process requires, as input, a digital elevation model (DEM) gridded to user-specified bounds, a scanned digital image file and external orientation parameters for the aerial photograph which are typically derived from aerotriangulation (ATCONTROL). 

Each image was processed from a digital camera to approximately a 0.6 meter ground sample distance.  The raw images, Airborne GPS data, and camera calibration data were used as inputs to the aerotriangulation program to generate the exposure station exterior orientations used to rectify the orthophotos.  The external orientation parameters derived from the aerotriangulation solution were used to provide the horizontal control for each photograph.  Vertical control for the orthorectification process was obtained from existing Digital Elevation Models (DEM) supplied by the State of Missouri. During the orthorectification process, elevation data were extracted and resampled to meet user-specified intervals and bounds.

Each DOQQ was produced by mosaicking multiple images.  Tonal balancing was performed across mosaic lines to provide a more naturally appearing final product.  The orthorectified imagery is resampled to a 0.6 meter ground resolution with a nominal ground extent of 3.75 minutes in latitude and in longitude.  Up to 300 meters of overedge coverage beyond the extreme latitude and longitude corners is included in the image.

Orthorectification was performed using software developed by Surdex Corporation.  Resampling to 0.6 meter GSD was done using cubic convolution. 

All orthoimages are individually inspected for content, misalignments along mosaic seamlines, and void areas. Digital image dodging or enhancement was performed.  Source information was collected and verified manually during the production process.</procdesc>
<procdate>200706</procdate>
</procstep>
<procstep>
<procdesc>The individual DOQQs were mosaicked into a single seamless image in an ArcSDE database using JPEG 2000 compression and then pyramids were built on this mosaic.  See the feature class DOQQ.DATES_2008 to identify the appropriate metadata file for an individual DOQQ tile which can be found on the GIS file server in the MO\DOQQ\DOQQ_2008\Metadata folder.</procdesc>
<procdate>20090330</procdate>
<proccont>
<cntinfo>
<cntperp>
<cntper>Michael Hill</cntper>
<cntorg>Missouri Office of Administration, Information Technology Services Division, Department of Natural Resources</cntorg>
</cntperp>
<cntpos>Geographic Information Systems Specialist</cntpos>
<cntaddr>
<addrtype>mailing and physical address</addrtype>
<address>205 Jefferson Street</address>
<address>P. O. Box 176</address>
<city>Jefferson City</city>
<state>Missouri</state>
<postal>65102-0176</postal>
<country>United States</country>
</cntaddr>
<cntvoice>(573) 522-8378</cntvoice>
<cnttdd>800-735-2966</cnttdd>
<cntfax>(573) 526-1421</cntfax>
<cntemail>michael.hill@dnr.mo.gov</cntemail>
<hours>Monday through Friday, 8 a.m. to 5 p.m. Central time</hours>
</cntinfo>
</proccont>
</procstep>
</lineage>
</dataqual>
<spdoinfo>
<direct>Raster</direct>
<rastinfo>
<rasttype>Pixel</rasttype>
<rowcount>863982</rowcount>
<colcount>604935</colcount>
<vrtcount>1</vrtcount>
</rastinfo>
</spdoinfo>
<spref>
<horizsys>
<planar>
<gridsys>
<gridsysn>Universal Transverse Mercator</gridsysn>
<utm>
<utmzone>15</utmzone>
<transmer>
<sfctrmer>0.999600</sfctrmer>
<longcm>-93.000000</longcm>
<latprjo>0.000000</latprjo>
<feast>500000.000000</feast>
<fnorth>0.000000</fnorth>
</transmer>
</utm>
</gridsys>
<planci>
<plance>row and column</plance>
<coordrep>
<absres>0.600000</absres>
<ordres>0.600000</ordres>
</coordrep>
<plandu>meters</plandu>
</planci>
</planar>
<geodetic>
<horizdn>North American Datum of 1983</horizdn>
<ellips>Geodetic Reference System 80</ellips>
<semiaxis>6378137.000000</semiaxis>
<denflat>298.257222</denflat>
</geodetic>
</horizsys>
</spref>
<eainfo>
<overview>
<eaover>Color orthoimagery is organized in three color bands or channels which represent the red, green, and blue (RGB) portions of the spectrum.  Each image pixel is assigned a triplet of numeric values, one for each color band.  Numeric values range from 0 to 255.</eaover>
<eadetcit>U.S. Department of the Interior, U.S. Geological Survey, 1996, Standards for Digital Orthophotos: Reston, VA.</eadetcit>
</overview>
</eainfo>
<distinfo>
<resdesc>Downloadable Data</resdesc>
</distinfo>
<metainfo>
<metd>20090504</metd>
<metc>
<cntinfo>
<cntorgp>
<cntorg>U.S. Geological Survey</cntorg>
<cntper>REQUIRED: The person responsible for the metadata information.</cntper>
</cntorgp>
<cntaddr>
<addrtype>mailing</addrtype>
<address>Customer Services</address>
<address>U.S. Geological Survey</address>
<address>EROS Data Center</address>
<address>47914 252nd Street</address>
<city>Sioux Falls</city>
<state>SD</state>
<postal>57198-0001</postal>
<country>US</country>
</cntaddr>
<cntvoice>1-800-252-4547</cntvoice>
<cnttdd>1-605-594-6933</cnttdd>
<cntfax>1-605-594-6589</cntfax>
<cntemail>custserv@usgs.gov</cntemail>
<hours>Monday through Friday 8:00 AM to 4:00 PM (Central Time)</hours>
<cntinst>The above is the contact information for EROS Data Center in Sioux Falls, SD. This is the digital data storage and distribution center for the USGS. Metadata information can also be obtained through online services using The National Map Viewer, at http:/nationalmap.usgs.gov or EarthExplorer, at http://earthexplorer.usgs.gov.</cntinst>
</cntinfo>
</metc>
<metstdn>FGDC Content Standards for Digital Geospatial Metadata</metstdn>
<metstdv>FGDC-STD-001-1998</metstdv>
<mettc>local time</mettc>
<metextns>
<onlink>http://www.esri.com/metadata/esriprof80.html</onlink>
<metprof>ESRI Metadata Profile</metprof>
</metextns>
<metextns>
<onlink>http://www.esri.com/metadata/esriprof80.html</onlink>
<metprof>ESRI Metadata Profile</metprof>
</metextns>
</metainfo>
</metadata>
